BEGIN:VCALENDAR
VERSION:2.0
PRODID:-//Staging - ECPv6.15.20//NONSGML v1.0//EN
CALSCALE:GREGORIAN
METHOD:PUBLISH
X-WR-CALNAME:Staging
X-ORIGINAL-URL:https://lineendesign.nl
X-WR-CALDESC:Evenementen voor Staging
REFRESH-INTERVAL;VALUE=DURATION:PT1H
X-Robots-Tag:noindex
X-PUBLISHED-TTL:PT1H
BEGIN:VTIMEZONE
TZID:UTC
BEGIN:STANDARD
TZOFFSETFROM:+0000
TZOFFSETTO:+0000
TZNAME:UTC
DTSTART:20250101T000000
END:STANDARD
END:VTIMEZONE
BEGIN:VEVENT
DTSTART;TZID=UTC:20260421T080000
DTEND;TZID=UTC:20260421T170000
DTSTAMP:20260421T140735
CREATED:20260421T074604Z
LAST-MODIFIED:20260421T083455Z
UID:8-1776758400-1776790800@lineendesign.nl
SUMMARY:Rondje omgeving
DESCRIPTION:Test
URL:https://lineendesign.nl/event/test/
END:VEVENT
BEGIN:VEVENT
DTSTART;TZID=UTC:20260421T080000
DTEND;TZID=UTC:20260421T170000
DTSTAMP:20260421T140735
CREATED:20260421T090013Z
LAST-MODIFIED:20260421T090013Z
UID:31-1776758400-1776790800@lineendesign.nl
SUMMARY:Worskshop bloemen maken
DESCRIPTION:
URL:https://lineendesign.nl/event/worskshop-bloemen-maken/
END:VEVENT
END:VCALENDAR